BEGIN:VCALENDAR
VERSION:2.0
CALSCALE:GREGORIAN
METHOD:PUBLISH
X-WR-TIMEZONE:Australia/Sydney
BEGIN:VTIMEZONE
TZID:Australia/Sydney
BEGIN:STANDARD
TZNAME:AEST
DTSTART:19700101T000000
TZOFFSETFROM:+1100
TZOFFSETTO:+1000
END:STANDARD
END:VTIMEZONE
BEGIN:VEVENT
DTSTART;TZID=Australia/Sydney:20210426T003000
DTEND;TZID=Australia/Sydney:20210426T133000
DTSTAMP:20260423T172444
UID:1389
SUMMARY:JSC / Student Leaders Meeting (TRI Centre Upstairs)
DESCRIPTION:Join with Google Meet: https://meet.google.com/mun-nhdw-seu
SEQUENCE:0
STATUS:CONFIRMED
TRANSP:OPAQUE
END:VEVENT
END:VCALENDAR